BEGIN:VCALENDAR
VERSION:2.0
PRODID:-//eventon.com NONSGML v1.0//EN
BEGIN:VEVENT
UID:69e4cf402fff1
DTSTAMP:20260419T134904
DTSTART:20260327T080000Z
DTEND:20260327T090000Z
LOCATION:
SUMMARY:9h00-10h00 Atelier de méditation - Maison des hauts de Cuire - Caluire
DESCRIPTION: 9h00-10h00 Atelier de méditation - Maison des hauts de Cuire - Caluire
END:VEVENT
END:VCALENDAR