BEGIN:VCALENDAR
VERSION:2.0
PRODID:-//eventon.com NONSGML v1.0//EN
BEGIN:VEVENT
UID:69ecb227326d0
DTSTAMP:20260425T132303
DTSTART:20260613T090000Z
DTEND:20260613T160000Z
LOCATION:
SUMMARY:10h00 - 17h00 Journée de pratique en silence - Caluire
DESCRIPTION: 10h00 - 17h00 Journée de pratique en silence - Caluire
END:VEVENT
END:VCALENDAR