BEGIN:VCALENDAR
VERSION:2.0
PRODID:-//eventon.com NONSGML v1.0//EN
BEGIN:VEVENT
UID:69e74be4b4e36
DTSTAMP:20260421T110524
DTSTART:20260506T173000Z
DTEND:20260506T183000Z
LOCATION:
SUMMARY:18h30-19h30 Atelier de méditation - Maison des hauts de Cuire - Caluire
DESCRIPTION: 18h30-19h30 Atelier de méditation - Maison des hauts de Cuire - Caluire
END:VEVENT
END:VCALENDAR