BEGIN:VCALENDAR
VERSION:2.0
PRODID:-//eventon.com NONSGML v1.0//EN
BEGIN:VEVENT
UID:69e74be4a1b1d
DTSTAMP:20260421T110524
DTSTART:20260522T080000Z
DTEND:20260522T090000Z
LOCATION:
SUMMARY:9h00-10h00 Atelier de méditation - Maison des hauts de Cuire - Caluire
DESCRIPTION: 9h00-10h00 Atelier de méditation - Maison des hauts de Cuire - Caluire
END:VEVENT
END:VCALENDAR